Package: MsDataHub Version: 1.2.0 Command: rm -rf MsDataHub.buildbin-libdir && mkdir MsDataHub.buildbin-libdir && /Users/biocbuild/BBS/utils/build-universal.sh MsDataHub_1.2.0.tar.gz /Library/Frameworks/R.framework/Resources/bin/R MsDataHub.buildbin-libdir StartedAt: 2024-03-04 00:52:10 -0500 (Mon, 04 Mar 2024) EndedAt: 2024-03-04 00:52:39 -0500 (Mon, 04 Mar 2024) EllapsedTime: 28.9 seconds RetCode: 0 Status: OK PackageFile: MsDataHub_1.2.0.tgz PackageFileSize: 377.1 KiB