Package: MsCoreUtils Version: 1.14.1 Command: /Library/Frameworks/R.framework/Resources/bin/R CMD build --keep-empty-dirs --no-resave-data MsCoreUtils StartedAt: 2024-03-03 17:29:34 -0500 (Sun, 03 Mar 2024) EndedAt: 2024-03-03 17:30:17 -0500 (Sun, 03 Mar 2024) EllapsedTime: 43.1 seconds RetCode: 0 Status: OK PackageFile: MsCoreUtils_1.14.1.tar.gz PackageFileSize: 399 KiB