Package: MsBackendSql Version: 1.2.0 Command: /Library/Frameworks/R.framework/Resources/bin/R CMD build --keep-empty-dirs --no-resave-data MsBackendSql StartedAt: 2024-04-15 20:14:54 -0400 (Mon, 15 Apr 2024) EndedAt: 2024-04-15 20:17:15 -0400 (Mon, 15 Apr 2024) EllapsedTime: 141.1 seconds RetCode: 0 Status: OK PackageFile: MsBackendSql_1.2.0.tar.gz PackageFileSize: 333.1 KiB