Package: MsBackendSql Version: 1.2.0 Command: /home/biocbuild/R/R-4.3.1/bin/R CMD check --install=check:MsBackendSql.install-out.txt --library=/home/biocbuild/R/R-4.3.1/site-library --no-vignettes --timings MsBackendSql_1.2.0.tar.gz StartedAt: 2023-11-02 12:26:32 -0000 (Thu, 02 Nov 2023) EndedAt: 2023-11-02 12:29:50 -0000 (Thu, 02 Nov 2023) EllapsedTime: 197.8 seconds RetCode: 1 Status: ERROR CheckDir: MsBackendSql.Rcheck Warnings: NA