Package: MsBackendRawFileReader Version: 1.8.1 Command: rm -rf MsBackendRawFileReader.buildbin-libdir && mkdir MsBackendRawFileReader.buildbin-libdir && /Users/biocbuild/BBS/utils/build-universal.sh MsBackendRawFileReader_1.8.1.tar.gz /Library/Frameworks/R.framework/Resources/bin/R MsBackendRawFileReader.buildbin-libdir StartedAt: 2024-04-16 12:15:54 -0400 (Tue, 16 Apr 2024) EndedAt: 2024-04-16 12:16:18 -0400 (Tue, 16 Apr 2024) EllapsedTime: 23.8 seconds RetCode: 0 Status: OK PackageFile: MsBackendRawFileReader_1.8.1.tgz PackageFileSize: 1.243 MiB