Package: MsBackendMsp Version: 1.6.0 Command: chmod a+r MsBackendMsp -R && F:\biocbuild\bbs-3.18-bioc\R\bin\R.exe CMD build --keep-empty-dirs --no-resave-data MsBackendMsp StartedAt: 2024-04-15 19:44:01 -0400 (Mon, 15 Apr 2024) EndedAt: 2024-04-15 19:44:32 -0400 (Mon, 15 Apr 2024) EllapsedTime: 30.3 seconds RetCode: 0 Status: OK PackageFile: MsBackendMsp_1.6.0.tar.gz PackageFileSize: 321 KiB