Package: MsBackendMsp Version: 1.6.0 Command: /home/biocbuild/bbs-3.18-bioc/R/bin/R CMD INSTALL MsBackendMsp StartedAt: 2024-04-15 15:17:29 -0400 (Mon, 15 Apr 2024) EndedAt: 2024-04-15 15:17:38 -0400 (Mon, 15 Apr 2024) EllapsedTime: 9.0 seconds RetCode: 0 Status: OK