Package: MsBackendMsp Version: 1.6.0 Command: /home/biocbuild/bbs-3.18-bioc/R/bin/R CMD build --keep-empty-dirs --no-resave-data MsBackendMsp StartedAt: 2024-04-15 18:04:36 -0400 (Mon, 15 Apr 2024) EndedAt: 2024-04-15 18:04:51 -0400 (Mon, 15 Apr 2024) EllapsedTime: 14.9 seconds RetCode: 0 Status: OK PackageFile: MsBackendMsp_1.6.0.tar.gz PackageFileSize: 320.9 KiB