Package: MsBackendMsp Version: 1.6.0 Command: /home/biocbuild/R/R-4.3.1/bin/R CMD INSTALL MsBackendMsp StartedAt: 2023-11-01 20:21:10 -0000 (Wed, 01 Nov 2023) EndedAt: 2023-11-01 20:21:21 -0000 (Wed, 01 Nov 2023) EllapsedTime: 11.5 seconds RetCode: 0 Status: OK