Package: MsBackendMassbank Version: 1.10.1 Command: chmod a+r MsBackendMassbank -R && F:\biocbuild\bbs-3.18-bioc\R\bin\R.exe CMD build --keep-empty-dirs --no-resave-data MsBackendMassbank StartedAt: 2024-04-15 19:43:42 -0400 (Mon, 15 Apr 2024) EndedAt: 2024-04-15 19:44:26 -0400 (Mon, 15 Apr 2024) EllapsedTime: 43.9 seconds RetCode: 0 Status: OK PackageFile: MsBackendMassbank_1.10.1.tar.gz PackageFileSize: 396.3 KiB