Package: MsBackendMassbank Version: 1.10.1 Command: rm -rf MsBackendMassbank.buildbin-libdir && mkdir MsBackendMassbank.buildbin-libdir && F:\biocbuild\bbs-3.18-bioc\R\bin\R.exe CMD INSTALL --build --library=MsBackendMassbank.buildbin-libdir MsBackendMassbank_1.10.1.tar.gz StartedAt: 2024-04-16 07:19:10 -0400 (Tue, 16 Apr 2024) EndedAt: 2024-04-16 07:19:29 -0400 (Tue, 16 Apr 2024) EllapsedTime: 18.4 seconds RetCode: 0 Status: OK PackageFile: MsBackendMassbank_1.10.1.zip PackageFileSize: 612.7 KiB