Package: MsBackendMassbank Version: 1.10.1 Command: /Library/Frameworks/R.framework/Resources/bin/R CMD INSTALL MsBackendMassbank StartedAt: 2024-04-15 15:28:03 -0400 (Mon, 15 Apr 2024) EndedAt: 2024-04-15 15:28:28 -0400 (Mon, 15 Apr 2024) EllapsedTime: 24.4 seconds RetCode: 0 Status: OK