Package: MsBackendMassbank Version: 1.10.1 Command: /Library/Frameworks/R.framework/Resources/bin/R CMD check --install=check:MsBackendMassbank.install-out.txt --library=/Library/Frameworks/R.framework/Resources/library --no-vignettes --timings MsBackendMassbank_1.10.1.tar.gz StartedAt: 2024-03-03 21:59:30 -0500 (Sun, 03 Mar 2024) EndedAt: 2024-03-03 22:01:44 -0500 (Sun, 03 Mar 2024) EllapsedTime: 134.2 seconds RetCode: 0 Status: OK CheckDir: MsBackendMassbank.Rcheck Warnings: 0