Package: MsBackendMassbank Version: 1.10.1 Command: /Library/Frameworks/R.framework/Resources/bin/R CMD build --keep-empty-dirs --no-resave-data MsBackendMassbank StartedAt: 2024-03-03 17:29:05 -0500 (Sun, 03 Mar 2024) EndedAt: 2024-03-03 17:29:42 -0500 (Sun, 03 Mar 2024) EllapsedTime: 37.0 seconds RetCode: 0 Status: OK PackageFile: MsBackendMassbank_1.10.1.tar.gz PackageFileSize: 408 KiB