Package: MsBackendMassbank Version: 1.10.1 Command: rm -rf MsBackendMassbank.buildbin-libdir && mkdir MsBackendMassbank.buildbin-libdir && /Users/biocbuild/BBS/utils/build-universal.sh MsBackendMassbank_1.10.1.tar.gz /Library/Frameworks/R.framework/Resources/bin/R MsBackendMassbank.buildbin-libdir StartedAt: 2024-03-04 00:52:03 -0500 (Mon, 04 Mar 2024) EndedAt: 2024-03-04 00:52:22 -0500 (Mon, 04 Mar 2024) EllapsedTime: 18.9 seconds RetCode: 0 Status: OK PackageFile: MsBackendMassbank_1.10.1.tgz PackageFileSize: 615.1 KiB