Package: MsBackendMassbank Version: 1.10.1 Command: /home/biocbuild/R/R-4.3.1/bin/R CMD build --keep-empty-dirs --no-resave-data MsBackendMassbank StartedAt: 2023-11-02 03:44:36 -0000 (Thu, 02 Nov 2023) EndedAt: 2023-11-02 03:45:06 -0000 (Thu, 02 Nov 2023) EllapsedTime: 30.0 seconds RetCode: 0 Status: OK PackageFile: MsBackendMassbank_1.10.1.tar.gz PackageFileSize: 475.5 KiB