Package: MouseFM Version: 1.12.0 Command: chmod a+r MouseFM -R && F:\biocbuild\bbs-3.18-bioc\R\bin\R.exe CMD build --keep-empty-dirs --no-resave-data MouseFM StartedAt: 2024-04-15 19:42:58 -0400 (Mon, 15 Apr 2024) EndedAt: 2024-04-15 19:44:18 -0400 (Mon, 15 Apr 2024) EllapsedTime: 79.3 seconds RetCode: 0 Status: OK PackageFile: MouseFM_1.12.0.tar.gz PackageFileSize: 690.2 KiB