Package: MouseFM Version: 1.12.0 Command: /home/biocbuild/bbs-3.18-bioc/R/bin/R CMD check --install=check:MouseFM.install-out.txt --library=/home/biocbuild/bbs-3.18-bioc/R/site-library --timings MouseFM_1.12.0.tar.gz StartedAt: 2024-04-16 01:11:21 -0400 (Tue, 16 Apr 2024) EndedAt: 2024-04-16 01:17:48 -0400 (Tue, 16 Apr 2024) EllapsedTime: 386.8 seconds RetCode: 0 Status: OK CheckDir: MouseFM.Rcheck Warnings: 0