Package: Motif2Site Version: 1.6.0 Command: F:\biocbuild\bbs-3.18-bioc\R\bin\R.exe CMD check --no-multiarch --install=check:Motif2Site.install-out.txt --library=F:\biocbuild\bbs-3.18-bioc\R\library --no-vignettes --timings Motif2Site_1.6.0.tar.gz StartedAt: 2024-04-16 02:52:14 -0400 (Tue, 16 Apr 2024) EndedAt: 2024-04-16 03:03:08 -0400 (Tue, 16 Apr 2024) EllapsedTime: 654.1 seconds RetCode: 0 Status: OK CheckDir: Motif2Site.Rcheck Warnings: 0