Package: Motif2Site Version: 1.6.0 Command: /Library/Frameworks/R.framework/Resources/bin/R CMD INSTALL Motif2Site StartedAt: 2024-04-15 16:07:42 -0400 (Mon, 15 Apr 2024) EndedAt: 2024-04-15 16:07:53 -0400 (Mon, 15 Apr 2024) EllapsedTime: 10.4 seconds RetCode: 0 Status: OK