Package: Motif2Site Version: 1.6.0 Command: /Library/Frameworks/R.framework/Resources/bin/R CMD check --install=check:Motif2Site.install-out.txt --library=/Library/Frameworks/R.framework/Resources/library --no-vignettes --timings Motif2Site_1.6.0.tar.gz StartedAt: 2024-03-03 21:57:15 -0500 (Sun, 03 Mar 2024) EndedAt: 2024-03-03 22:07:41 -0500 (Sun, 03 Mar 2024) EllapsedTime: 625.8 seconds RetCode: 0 Status: OK CheckDir: Motif2Site.Rcheck Warnings: 0