Package: Motif2Site Version: 1.6.0 Command: /home/biocbuild/R/R-4.3.1/bin/R CMD INSTALL Motif2Site StartedAt: 2023-11-01 20:44:03 -0000 (Wed, 01 Nov 2023) EndedAt: 2023-11-01 20:44:07 -0000 (Wed, 01 Nov 2023) EllapsedTime: 4.3 seconds RetCode: 0 Status: OK