Package: MoonlightR Version: 1.28.0 Command: chmod a+r MoonlightR -R && F:\biocbuild\bbs-3.18-bioc\R\bin\R.exe CMD build --keep-empty-dirs --no-resave-data MoonlightR StartedAt: 2024-04-15 19:40:00 -0400 (Mon, 15 Apr 2024) EndedAt: 2024-04-15 19:42:41 -0400 (Mon, 15 Apr 2024) EllapsedTime: 161.4 seconds RetCode: 0 Status: OK PackageFile: MoonlightR_1.28.0.tar.gz PackageFileSize: 14.3 MiB