Package: MoonlightR Version: 1.28.0 Command: /Library/Frameworks/R.framework/Resources/bin/R CMD build --keep-empty-dirs --no-resave-data MoonlightR StartedAt: 2024-03-03 17:26:35 -0500 (Sun, 03 Mar 2024) EndedAt: 2024-03-03 17:29:18 -0500 (Sun, 03 Mar 2024) EllapsedTime: 162.5 seconds RetCode: 0 Status: OK PackageFile: MoonlightR_1.28.0.tar.gz PackageFileSize: 14.76 MiB