Package: MoonlightR Version: 1.28.0 Command: rm -rf MoonlightR.buildbin-libdir && mkdir MoonlightR.buildbin-libdir && /Users/biocbuild/BBS/utils/build-universal.sh MoonlightR_1.28.0.tar.gz /Library/Frameworks/R.framework/Resources/bin/R MoonlightR.buildbin-libdir StartedAt: 2024-03-04 00:51:38 -0500 (Mon, 04 Mar 2024) EndedAt: 2024-03-04 00:52:46 -0500 (Mon, 04 Mar 2024) EllapsedTime: 67.5 seconds RetCode: 0 Status: OK PackageFile: MoonlightR_1.28.0.tgz PackageFileSize: 9.235 MiB