Package: MoonlightR Version: 1.28.0 Command: /home/biocbuild/R/R-4.3.1/bin/R CMD build --keep-empty-dirs --no-resave-data MoonlightR StartedAt: 2023-11-02 03:39:16 -0000 (Thu, 02 Nov 2023) EndedAt: 2023-11-02 03:42:49 -0000 (Thu, 02 Nov 2023) EllapsedTime: 213.4 seconds RetCode: 0 Status: OK PackageFile: MoonlightR_1.28.0.tar.gz PackageFileSize: 14.77 MiB