Package: MoonlightR Version: 1.28.0 Maintainer: Matteo Tiberti MaintainerEmail: tiberti at cancer.dk git_url: https://git.bioconductor.org/packages/MoonlightR git_branch: RELEASE_3_18 git_last_commit: 7dada82 git_last_commit_date: 2023-10-24 10:53:29 -0400 (Tue, 24 Oct 2023)