Package: Moonlight2R Version: 1.0.0 Command: chmod a+r Moonlight2R -R && F:\biocbuild\bbs-3.18-bioc\R\bin\R.exe CMD build --keep-empty-dirs --no-resave-data Moonlight2R StartedAt: 2024-04-15 19:39:50 -0400 (Mon, 15 Apr 2024) EndedAt: 2024-04-15 19:43:17 -0400 (Mon, 15 Apr 2024) EllapsedTime: 207.4 seconds RetCode: 0 Status: OK PackageFile: Moonlight2R_1.0.0.tar.gz PackageFileSize: 4.684 MiB