Package: Moonlight2R Version: 1.0.0 Command: rm -rf Moonlight2R.buildbin-libdir && mkdir Moonlight2R.buildbin-libdir && F:\biocbuild\bbs-3.18-bioc\R\bin\R.exe CMD INSTALL --build --library=Moonlight2R.buildbin-libdir Moonlight2R_1.0.0.tar.gz StartedAt: 2024-04-16 07:18:33 -0400 (Tue, 16 Apr 2024) EndedAt: 2024-04-16 07:19:46 -0400 (Tue, 16 Apr 2024) EllapsedTime: 73.6 seconds RetCode: 0 Status: OK PackageFile: Moonlight2R_1.0.0.zip PackageFileSize: 4.244 MiB