Package: MobilityTransformR Version: 1.6.0 Command: F:\biocbuild\bbs-3.18-bioc\R\bin\R.exe CMD check --no-multiarch --install=check:MobilityTransformR.install-out.txt --library=F:\biocbuild\bbs-3.18-bioc\R\library --no-vignettes --timings MobilityTransformR_1.6.0.tar.gz StartedAt: 2024-04-16 02:48:13 -0400 (Tue, 16 Apr 2024) EndedAt: 2024-04-16 02:56:53 -0400 (Tue, 16 Apr 2024) EllapsedTime: 520.0 seconds RetCode: 0 Status: OK CheckDir: MobilityTransformR.Rcheck Warnings: 0