Package: MobilityTransformR Version: 1.6.0 Command: /home/biocbuild/bbs-3.18-bioc/R/bin/R CMD build --keep-empty-dirs --no-resave-data MobilityTransformR StartedAt: 2024-04-15 18:00:29 -0400 (Mon, 15 Apr 2024) EndedAt: 2024-04-15 18:01:36 -0400 (Mon, 15 Apr 2024) EllapsedTime: 67.8 seconds RetCode: 0 Status: OK PackageFile: MobilityTransformR_1.6.0.tar.gz PackageFileSize: 393.9 KiB