Package: MobilityTransformR Version: 1.6.0 Command: rm -rf MobilityTransformR.buildbin-libdir && mkdir MobilityTransformR.buildbin-libdir && /Users/biocbuild/BBS/utils/build-universal.sh MobilityTransformR_1.6.0.tar.gz /Library/Frameworks/R.framework/Resources/bin/R MobilityTransformR.buildbin-libdir StartedAt: 2024-04-16 12:14:14 -0400 (Tue, 16 Apr 2024) EndedAt: 2024-04-16 12:15:38 -0400 (Tue, 16 Apr 2024) EllapsedTime: 83.4 seconds RetCode: 0 Status: OK PackageFile: MobilityTransformR_1.6.0.tgz PackageFileSize: 411.3 KiB