Package: MinimumDistance Version: 1.46.0 Command: /home/biocbuild/bbs-3.18-bioc/R/bin/R CMD INSTALL MinimumDistance StartedAt: 2024-04-15 15:48:42 -0400 (Mon, 15 Apr 2024) EndedAt: 2024-04-15 15:49:31 -0400 (Mon, 15 Apr 2024) EllapsedTime: 48.8 seconds RetCode: 0 Status: OK