Package: MinimumDistance Version: 1.46.0 Command: /home/biocbuild/bbs-3.18-bioc/R/bin/R CMD check --install=check:MinimumDistance.install-out.txt --library=/home/biocbuild/bbs-3.18-bioc/R/site-library --timings MinimumDistance_1.46.0.tar.gz StartedAt: 2024-04-16 00:55:48 -0400 (Tue, 16 Apr 2024) EndedAt: 2024-04-16 01:01:51 -0400 (Tue, 16 Apr 2024) EllapsedTime: 362.6 seconds RetCode: 0 Status: WARNINGS CheckDir: MinimumDistance.Rcheck Warnings: 5