Package: MicrobiotaProcess Version: 1.14.0 Command: /Library/Frameworks/R.framework/Resources/bin/R CMD INSTALL MicrobiotaProcess StartedAt: 2024-03-03 15:33:43 -0500 (Sun, 03 Mar 2024) EndedAt: 2024-03-03 15:35:13 -0500 (Sun, 03 Mar 2024) EllapsedTime: 90.0 seconds RetCode: 0 Status: OK