Package: MiRaGE Version: 1.44.0 Command: F:\biocbuild\bbs-3.18-bioc\R\bin\R.exe CMD check --no-multiarch --install=check:MiRaGE.install-out.txt --library=F:\biocbuild\bbs-3.18-bioc\R\library --no-vignettes --timings MiRaGE_1.44.0.tar.gz StartedAt: 2024-04-16 02:41:22 -0400 (Tue, 16 Apr 2024) EndedAt: 2024-04-16 02:43:12 -0400 (Tue, 16 Apr 2024) EllapsedTime: 110.8 seconds RetCode: 0 Status: WARNINGS CheckDir: MiRaGE.Rcheck Warnings: 1