Package: MiRaGE Version: 1.44.0 Command: rm -rf MiRaGE.buildbin-libdir && mkdir MiRaGE.buildbin-libdir && F:\biocbuild\bbs-3.18-bioc\R\bin\R.exe CMD INSTALL --build --library=MiRaGE.buildbin-libdir MiRaGE_1.44.0.tar.gz StartedAt: 2024-04-16 07:17:26 -0400 (Tue, 16 Apr 2024) EndedAt: 2024-04-16 07:17:50 -0400 (Tue, 16 Apr 2024) EllapsedTime: 23.8 seconds RetCode: 0 Status: OK PackageFile: MiRaGE_1.44.0.zip PackageFileSize: 1.207 MiB