Package: MiRaGE Version: 1.44.0 Command: /home/biocbuild/bbs-3.18-bioc/R/bin/R CMD build --keep-empty-dirs --no-resave-data MiRaGE StartedAt: 2024-04-15 17:57:42 -0400 (Mon, 15 Apr 2024) EndedAt: 2024-04-15 17:58:42 -0400 (Mon, 15 Apr 2024) EllapsedTime: 59.1 seconds RetCode: 0 Status: OK PackageFile: MiRaGE_1.44.0.tar.gz PackageFileSize: 1.166 MiB