Package: MiChip Version: 1.56.0 Command: /home/biocbuild/R/R-4.3.1/bin/R CMD build --keep-empty-dirs --no-resave-data MiChip StartedAt: 2023-11-02 03:27:27 -0000 (Thu, 02 Nov 2023) EndedAt: 2023-11-02 03:27:36 -0000 (Thu, 02 Nov 2023) EllapsedTime: 9.0 seconds RetCode: 0 Status: OK PackageFile: MiChip_1.56.0.tar.gz PackageFileSize: 642.7 KiB