Package: Mfuzz Version: 2.62.0 Command: rm -rf Mfuzz.buildbin-libdir && mkdir Mfuzz.buildbin-libdir && F:\biocbuild\bbs-3.18-bioc\R\bin\R.exe CMD INSTALL --build --library=Mfuzz.buildbin-libdir Mfuzz_2.62.0.tar.gz StartedAt: 2024-04-16 07:16:31 -0400 (Tue, 16 Apr 2024) EndedAt: 2024-04-16 07:16:41 -0400 (Tue, 16 Apr 2024) EllapsedTime: 9.7 seconds RetCode: 0 Status: OK PackageFile: Mfuzz_2.62.0.zip PackageFileSize: 697.2 KiB