Package: Mfuzz Version: 2.62.0 Command: /Library/Frameworks/R.framework/Resources/bin/R CMD check --install=check:Mfuzz.install-out.txt --library=/Library/Frameworks/R.framework/Resources/library --no-vignettes --timings Mfuzz_2.62.0.tar.gz StartedAt: 2024-04-16 05:16:00 -0400 (Tue, 16 Apr 2024) EndedAt: 2024-04-16 05:17:23 -0400 (Tue, 16 Apr 2024) EllapsedTime: 82.9 seconds RetCode: 0 Status: WARNINGS CheckDir: Mfuzz.Rcheck Warnings: 2