Package: Mfuzz Version: 2.62.0 Command: rm -rf Mfuzz.buildbin-libdir && mkdir Mfuzz.buildbin-libdir && /Users/biocbuild/BBS/utils/build-universal.sh Mfuzz_2.62.0.tar.gz /Library/Frameworks/R.framework/Resources/bin/R Mfuzz.buildbin-libdir StartedAt: 2024-04-16 12:11:48 -0400 (Tue, 16 Apr 2024) EndedAt: 2024-04-16 12:12:03 -0400 (Tue, 16 Apr 2024) EllapsedTime: 15.0 seconds RetCode: 0 Status: OK PackageFile: Mfuzz_2.62.0.tgz PackageFileSize: 853.2 KiB