Package: Mfuzz Version: 2.62.0 Command: /Library/Frameworks/R.framework/Resources/bin/R CMD check --install=check:Mfuzz.install-out.txt --library=/Library/Frameworks/R.framework/Resources/library --no-vignettes --timings Mfuzz_2.62.0.tar.gz StartedAt: 2024-03-03 21:45:55 -0500 (Sun, 03 Mar 2024) EndedAt: 2024-03-03 21:46:45 -0500 (Sun, 03 Mar 2024) EllapsedTime: 49.8 seconds RetCode: 0 Status: WARNINGS CheckDir: Mfuzz.Rcheck Warnings: 2