Package: MethylSeekR Version: 1.42.0 Command: chmod a+r MethylSeekR -R && F:\biocbuild\bbs-3.18-bioc\R\bin\R.exe CMD build --keep-empty-dirs --no-resave-data MethylSeekR StartedAt: 2024-04-15 19:29:58 -0400 (Mon, 15 Apr 2024) EndedAt: 2024-04-15 19:31:51 -0400 (Mon, 15 Apr 2024) EllapsedTime: 112.9 seconds RetCode: 0 Status: OK PackageFile: MethylSeekR_1.42.0.tar.gz PackageFileSize: 1.595 MiB