Package: MethylSeekR Version: 1.42.0 Command: /Library/Frameworks/R.framework/Resources/bin/R CMD build --keep-empty-dirs --no-resave-data MethylSeekR StartedAt: 2024-04-15 19:57:24 -0400 (Mon, 15 Apr 2024) EndedAt: 2024-04-15 20:00:32 -0400 (Mon, 15 Apr 2024) EllapsedTime: 188.5 seconds RetCode: 0 Status: OK PackageFile: MethylSeekR_1.42.0.tar.gz PackageFileSize: 1.594 MiB