Package: MethylSeekR Version: 1.42.0 Command: rm -rf MethylSeekR.buildbin-libdir && mkdir MethylSeekR.buildbin-libdir && /Users/biocbuild/BBS/utils/build-universal.sh MethylSeekR_1.42.0.tar.gz /Library/Frameworks/R.framework/Resources/bin/R MethylSeekR.buildbin-libdir StartedAt: 2024-04-16 12:11:22 -0400 (Tue, 16 Apr 2024) EndedAt: 2024-04-16 12:12:37 -0400 (Tue, 16 Apr 2024) EllapsedTime: 74.7 seconds RetCode: 0 Status: OK PackageFile: MethylSeekR_1.42.0.tgz PackageFileSize: 1.655 MiB