Package: MethylSeekR Version: 1.42.0 Command: /home/biocbuild/R/R-4.3.1/bin/R CMD INSTALL MethylSeekR StartedAt: 2023-11-01 20:24:53 -0000 (Wed, 01 Nov 2023) EndedAt: 2023-11-01 20:25:35 -0000 (Wed, 01 Nov 2023) EllapsedTime: 41.6 seconds RetCode: 0 Status: OK