Package: MethylSeekR Version: 1.42.0 Command: /home/biocbuild/R/R-4.3.1/bin/R CMD build --keep-empty-dirs --no-resave-data MethylSeekR StartedAt: 2023-11-02 03:24:31 -0000 (Thu, 02 Nov 2023) EndedAt: 2023-11-02 03:26:57 -0000 (Thu, 02 Nov 2023) EllapsedTime: 145.2 seconds RetCode: 0 Status: OK PackageFile: MethylSeekR_1.42.0.tar.gz PackageFileSize: 1.588 MiB