Package: MethylMix Version: 2.32.0 Command: chmod a+r MethylMix -R && F:\biocbuild\bbs-3.18-bioc\R\bin\R.exe CMD build --keep-empty-dirs --no-resave-data MethylMix StartedAt: 2024-04-15 19:29:04 -0400 (Mon, 15 Apr 2024) EndedAt: 2024-04-15 19:29:46 -0400 (Mon, 15 Apr 2024) EllapsedTime: 41.7 seconds RetCode: 0 Status: OK PackageFile: MethylMix_2.32.0.tar.gz PackageFileSize: 2.575 MiB