Package: MethylMix Version: 2.32.0 Command: /home/biocbuild/bbs-3.18-bioc/R/bin/R CMD build --keep-empty-dirs --no-resave-data MethylMix StartedAt: 2024-04-15 17:53:54 -0400 (Mon, 15 Apr 2024) EndedAt: 2024-04-15 17:54:22 -0400 (Mon, 15 Apr 2024) EllapsedTime: 28.3 seconds RetCode: 0 Status: OK PackageFile: MethylMix_2.32.0.tar.gz PackageFileSize: 2.576 MiB